Workbook

Sheet Budget Summary
A1: Name of Organization
A2: Description of Project
A3: Grant period in months
A6: Budget Line | B6: Amount (PKR)
A7: ='Budget Guide'!B8 -> Direct Labor | B7: ='Budget Guide'!G17 -> 0
A8: ='Budget Guide'!B18 -> Supplies and Equipment | B8: ='Budget Guide'!G27 -> 0
A9: ='Budget Guide'!B28 -> Vehicle and Travel | B9: ='Budget Guide'!G31 -> 0
A10: ='Budget Guide'!B33 -> Program Activities Cost | B10: ='Budget Guide'!G43 -> 0
A11: ='Budget Guide'!B44 -> Administrative Cost (If any) | B11: ='Budget Guide'!G48 -> 0
A12: Total Federal Share Requested | B12: =SUM(B7:B11) -> 0
A14: Cost Share
A16: Total Program Cost | B16: =B12+B14 -> 0

Sheet Budget Guide
B1: ='Budget Summary'!A1 -> Name of Organization | C1: ='Budget Summary'!B1 -> 0
B2: ='Budget Summary'!A2 -> Description of Project | C2: ='Budget Summary'!B2 -> 0
B3: ='Budget Summary'!A3 -> Grant period in months | C3: ='Budget Summary'!B3 -> 0
A6: Line Items | C6: Unit | D6: Unit Cost Rs. | E6: Number of Units | F6: Frequency | G6: Total Rs. | H6: Help Text
F7: Jan-13
A8: 1 | B8: Direct Labor | H8: Kindly use your own staffing designations for the positions budgeted and delete the text entered in the budget. In the budget notes kindly mention: Explain the role, level of effort, number of staff and period for which the position has been budgeted for each position.
A9: 1.1 | B9: Project Manager | C9: Month | G9: =ROUND(D9*E9*F9,0) -> 0
A10: 1.2 | B10: Social Mobilizers | C10: Month | G10: =ROUND(D10*E10*F10,0) -> 0
A11: 1.3 | B11: Finance Assistant | C11: Month | G11: =ROUND(D11*E11*F11,0) -> 0
A12: 1.4 | G12: =ROUND(D12*E12*F12,0) -> 0
A13: 1.5 | G13: =ROUND(D13*E13*F13,0) -> 0
A14: 1.6 | G14: =ROUND(D14*E14*F14,0) -> 0
A15: 1.7 | G15: =ROUND(D15*E15*F15,0) -> 0
A16: 1.8 | G16: =ROUND(D16*E16*F16,0) -> 0
C17: Subtotal | G17: =SUM(G9:G16) -> 0
A18: 2 | B18: Supplies and Equipment
A19: 2.1 | B19: Expendable supplies
A20: 2.1.1 | B20: Office Supplies | C20: Month | G20: =ROUND(D20*E20*F20,0) -> 0 | H20: In the budget notes kindly mention the basis on which expendable supplies have been budgeted; mentioning the total cost and the portion being charged to the project.
A21: 2.1.2 | B21: Stationary Supplies | C21: Month | G21: =ROUND(D21*E21*F21,0) -> 0
A23: 2.2 | B23: Non-expendable supplies and equipment
A24: 2.2.1 | B24: Laptop | C24: Unit | G24: =ROUND(D24*E24*F24,0) -> 0 | H24: Considering the short duration of the project, applicants are advised to use exisitng resources. Incase any non-expendable supplies and equipment are being budgeted, explain in budget notes the reason and staff for whom it has been budgeted.
A25: 2.2.2 | B25: Printer | C25: Unit | G25: =ROUND(D25*E25*F25,0) -> 0
A26: 2.2.3 | G26: =ROUND(D26*E26*F26,0) -> 0
C27: Subtotal | G27: =SUM(G19:G22)+SUM(G24:G26) -> 0
A28: 3 | B28: Vehicle and Travel
A29: 3.1 | C29: Month | G29: =ROUND(D29*E29*F29,0) -> 0 | H29: Give details in the budget notes and use best available market/historical rates for budgeting purposes.
A30: 3.2 | C30: Trip | G30: =ROUND(D30*E30*F30,0) -> 0
C31: Subtotal | G31: =SUM(G29:G30) -> 0
A33: 4 | B33: Program Activities Cost
A34: 4.1 | B34: Community Meetings | C34: Meeting | G34: =ROUND(D34*E34*F34,0) -> 0 | H34: List down all program activities and provide breakup in the "breakup sheet". Also explain the activity costing in the budget notes providing details regarding the nature and breakup of expenses along with number of participants, days etc (where applicable).
A35: 4.2 | B35: Training of xxx | C35: Training | G35: =ROUND(D35*E35*F35,0) -> 0
A36: 4.3 | G36: =ROUND(D36*E36*F36,0) -> 0
A37: 4.4 | G37: =ROUND(D37*E37*F37,0) -> 0
A38: 4.5 | G38: =ROUND(D38*E38*F38,0) -> 0
A39: 4.6 | G39: =ROUND(D39*E39*F39,0) -> 0
A40: 4.7 | G40: =ROUND(D40*E40*F40,0) -> 0
A41: 4.8 | G41: =ROUND(D41*E41*F41,0) -> 0
A42: 4.9 | G42: =ROUND(D42*E42*F42,0) -> 0
C43: Subtotal | G43: =SUM(G34:G42) -> 0
A44: 5 | B44: Administrative Cost (If any)
...

Sheet Breakup
A2: ='Budget Guide'!B34 -> Community Meetings
A3: Description | B3: Unit Cost | C3: Unit | D3: Frequency | E3: Amount
A4: Venue | E4: =B4*C4*D4 -> 0
A5: Refreshments | E5: =B5*C5*D5 -> 0
A6: Travel | E6: =B6*C6*D6 -> 0
A7: Stationary | E7: =B7*C7*D7 -> 0
A8: Banner | E8: =B8*C8*D8 -> 0
A9: Total | E9: =SUM(E4:E8) -> 0
A11: ='Budget Guide'!B35 -> Training of xxx
A12: Description | B12: Unit Cost | C12: Unit | D12: Frequency | E12: Amount
A13: Venue | E13: =B13*C13*D13 -> 0
A14: Refreshments | E14: =B14*C14*D14 -> 0
A15: Travel | E15: =B15*C15*D15 -> 0
A16: Stationary | E16: =B16*C16*D16 -> 0
A17: Banner | E17: =B17*C17*D17 -> 0
A18: Total | E18: =SUM(E13:E17) -> 0
A20: ='Budget Guide'!B36 -> 0
A21: Description | B21: Unit Cost | C21: Unit | D21: Frequency | E21: Amount
A22: Venue | E22: =B22*C22*D22 -> 0
A23: Refreshments | E23: =B23*C23*D23 -> 0
A24: Travel | E24: =B24*C24*D24 -> 0
A25: Stationary | E25: =B25*C25*D25 -> 0
A26: Banner | E26: =B26*C26*D26 -> 0
A27: Total | E27: =SUM(E22:E26) -> 0
A29: ='Budget Guide'!B37 -> 0
A30: Description | B30: Unit Cost | C30: Unit | D30: Frequency | E30: Amount
A31: Venue | E31: =B31*C31*D31 -> 0
A32: Refreshments | E32: =B32*C32*D32 -> 0
A33: Travel | E33: =B33*C33*D33 -> 0
A34: Stationary | E34: =B34*C34*D34 -> 0
A35: Banner | E35: =B35*C35*D35 -> 0
A36: Total | E36: =SUM(E31:E35) -> 0
A38: ='Budget Guide'!B38 -> 0
A39: Description | B39: Unit Cost | C39: Unit | D39: Frequency | E39: Amount
A40: Venue | E40: =B40*C40*D40 -> 0
A41: Refreshments | E41: =B41*C41*D41 -> 0
A42: Travel | E42: =B42*C42*D42 -> 0
A43: Stationary | E43: =B43*C43*D43 -> 0
A44: Banner | E44: =B44*C44*D44 -> 0
A45: Total | E45: =SUM(E40:E44) -> 0
...
