Workbook

Sheet BOQ For Quotation
B3: CAPITAL COST OF SCHEME (SCHOOL)
B5: PURPOSED ESTIMATION OF 2 class rooms size 20x16 2 Toilet size 4x4 with SEPTICK TANK DETAILS
A6: New Construction
A8: S>Nos | B8: DESCRIPTION | C8: QTY | D8: UNIT | E8: RATE | F8: AMOUNT
A9: A | B9: MATERIAL
A10: 1 | B10: CEMENT for all requied work palster, flooring brick massonary,block massonary ,rcc shades ,plinth beam ,RCC lintels , ect according to the engineer incharge | C10: 110 | D10: BAGS
A11: 2 | B11: SAND for all requied work palster, flooring brick massonary,block massonary ,rcc shades ,plinth beam ,RCC lintels , ect according to the engineer incharge | C11: ='Material '!F28 -> 544.39123 | D11: CFT
A12: 3 | B12: BRICKS bricks for all requied work such as , brick massonary for foundation ,ramps , etc according to the engineer incharge | C12: ='Details WORK SHEET '!H39*13.5 -> 6124.7812 | D12: NO
A13: 5 | B13: concrete block for walls | C13: ='Details WORK SHEET '!H53*3 -> 2360.25 | D13: nos
A14: 4 | B14: CRUSH | C14: 270 | D14: CFT
A15: 5 | B15: Stone 2'' | C15: ='Material '!G28 -> 208.5225 | D15: CFT
A16: 6 | B16: Clay(soil) | C16: ='Material '!K28 -> 1680 | D16: CFT
A17: 7 | B17: Steel Bar 4/8 no: bars for plinth beam and 3/8 no: for lintels and sheds | C17: ='Material '!J28 -> 301.59931 | D17: KG
A18: 8 | B18: Door 3.5*7 with wooden frame | C18: 2 | D18: nos
A19: 9 | B19: Doors 3.5*with wooden with frame | C19: 2 | D19: nos
A20: 10 | B20: windows with wooden frame and steel grills 3.5*4 | C20: 6 | D20: nos
A21: 11 | B21: Roof tile 12''x6'' | C21: ='Material '!L28 -> 1586.5 | D21: No
A22: 12 | B22: Guarder 4''x8'' per foot 2.5 KG | C22: ='Material '!M28 -> 105 | D22: RFT
A23: 13 | B23: T Iron @ 2" x 2"1' c /c 900 gram | C23: ='Material '!N28 -> 692.5 | D23: RFT
A24: 14 | B24: TOILETS item WC Medium | C24: 1 | D24: Each
A25: 16 | B25: TOILETS item comode | C25: 1 | D25: Each
A26: 15 | B26: Wash station with complete in all respect | C26: 2 | D26: Each
A27: 16 | B27: provsion of water in washrooms and wash stations i-e installation of motor pump or hand pump where suitable including boring | C27: 1 | D27: Each
A28: 17 | B28: PPR Pipe | C28: 25 | D28: RFT
A29: 18 | B29: PVC U pipe 4'' | C29: 9 | D29: RFT
A30: 19 | B30: installation and fixing of water tank master 700 liters | C30: 1 | D30: Each
A31: 20 | B31: Bib Cock | C31: 2 | D31: Each
A32: 21 | B32: Installation of Ramp hand rails of steel gauge 16 | C32: 2 | D32: Each
A33: 22 | B33: Applyling distembering, wheather sheet oil paint | C33: LUMSUM
A34: 23 | B34: fixing of sign board on wall 12''*12'' with complete in all respect | C34: LUMSUM
A35: 24 | B35: Installation of solar pannel with two ceilling fans i-e royal fan with complete fittings | C35: LUMSUM
A36: 25 | B36: Unforeseen work / extra work found | C36: LUMSUM
A37: 26 | B37: TRANPORTATION | C37: LUMSUM
A41: B | B41: SUB-TOTAL | F41: =SUM(F9:F40) -> 0
B42: LABOUR WORK ITEMS
A43: 1 | B43: Excavation in foundation
A44: 2 | B44: Cement concrete brick or stone ballast
A45: 3 | B45: Rcc work in all labour
A46: 4 | B46: Brick work Masonary
A47: 5 | B47: First class tile roofing i/c Tiron Fixing Complet labour work.
...

Sheet Plan 
L9: Toilet
L10: 4''x4
E18: Room Plan

Sheet Details WORK SHEET   
A1: LCS school work details
A2: S # | B2: Description | C2: Unit | D2: No. | E2: L | F2: B | G2: H | H2: Qty | I2: Rate/unit(Rs) 2020 | J2: RATE | K2: Amount
A4: 1 | B4: Excavation in foundation of building bridges and other structure i/c dag belling dressing refilling around structure with excavated earth watering and ramming earth lead upto one chain and lift upto five feet (S.I.No – 18-b / P-4)
B5: Long Walls | C5: CFT | D5: 2 | E5: 43.5 | F5: 2 | G5: 1.5 | H5: =D5*E5*F5*G5 -> 261
B6: Short Walls | D6: 3 | E6: 16 | F6: 2 | G6: 1.5 | H6: =D6*E6*F6*G6 -> 144
B7: Toilet Long Walls | C7: CFT | D7: 4 | E7: 4 | F7: 1 | G7: 1 | H7: =D7*E7*F7*G7 -> 16
B8: Short Walls | D8: 3 | E8: 4 | F8: 1 | G8: 1 | H8: =D8*E8*F8*G8 -> 12
B9: Stair | D9: 1 | E9: 7 | F9: 3 | G9: 0.5 | H9: =D9*E9*F9*G9 -> 10.5
B10: Ramp | C10: CFT | D10: 2 | E10: 4 | F10: 4 | G10: 0.5 | H10: =D10*E10*F10*G10 -> 16
B11: Total | H11: =SUM(H5:H10) -> 459.5 | I11: 6 | J11: 12 | K11: =H11*J11 -> 5514
A12: 3 | B12: Cement concrete brick or stone ballast 1 1/2" to 2" gauge. (c) Ratio 1 : 5 : 10 (S.I.No –4 / P-05)
B13: Long Walls | C13: CFT | D13: 2 | E13: 40.5 | F13: 2 | G13: 0.25 | H13: =D13*E13*F13*G13 -> 40.5
B14: Short Walls | D14: 3 | E14: 16 | F14: 2 | G14: 0.25 | H14: =D14*E14*F14*G14 -> 24
B15: Toilet Long Walls | C15: CFT | D15: 4 | E15: 4 | F15: 1 | G15: 0.25 | H15: =D15*E15*F15*G15 -> 4
B16: Short Walls | D16: 3 | E16: 4 | F16: 1 | G16: 0.25 | H16: =D16*E16*F16*G16 -> 3
B17: Class room Floor | D17: 2 | E17: 16 | F17: 16 | G17: 0.25 | H17: =D17*E17*F17*G17 -> 128
B18: Stair | D18: 1 | E18: 7 | F18: 3 | G18: 0.25 | H18: =D18*E18*F18*G18 -> 5.25
B19: Total | H19: =SUM(H12:H18) -> 204.75 | I19: 130 | J19: 85 | K19: =H19*J19 -> 17403.75
A20: 4 | B20: Rcc work in all labour and material except the cost of steel r/f and its labour for Bending and binding wire which will be paid separatey.This rate also i/c all kinds of forms moulds lifting shutterinhg curring rendering and finishing the exposed surface(a) R C Work In roof slab beams coloumns rafts lintels and other structure etc complete ratio 1:2:4 (S.I.NO.6-A P- 16 )
B21: Plinth DPC Building | C21: CFT | D21: 1 | E21: =43+43+16+16+16 -> 134 | F21: 1.125 | G21: 0.5 | H21: =G21*F21*E21*D21 -> 75.375 | J21: 400 | K21: =H21*J21 -> 30150
B22: Lintle 1:2:4 Cs Building | C22: CFT | D22: 1 | E22: =E21 -> 134 | F22: 0.5 | G22: 0.5 | H22: =G22*F22*E22*D22 -> 33.5 | J22: 400 | K22: =H22*J22 -> 13400
B23: RCC 1:2:4 Cs Shades for doors and windows | C23: CFT | D23: 8 | E23: 4 | F23: 1.5 | G23: 0.25 | H23: =G23*F23*E23*D23 -> 12 | J23: 400 | K23: =H23*J23 -> 4800
B24: Total Amount | H24: =H22+H23+H21 -> 120.875 | I24: 337 | K24: =K23+K22+K21 -> 48350
A25: 5 | B25: Fabrication of mild steel r/f for c.,c i/c cutting bending dbinding laying in Position i/c removal of rust from bars (S.I.NO.8-E P-16)
B26: CWT Steel | C26: CWT | H26: =H24*5.5/112 -> 5.9358259
B27: Total KG Steel Used in building | C27: P.KG | H27: =H26*50.81 -> 301.59931
B28: Total Steel KG | H28: =H27:I27 -> 301.59931 | I28: 140 | J28: 290 | K28: =J28*H28 -> 87463.801
A29: 6 | B29: Soiling Filling and whatering leveing
B30: Rooms | C30: P. CFT | D30: 2 | E30: 20 | F30: 16 | G30: 2.5 | H30: =D30*E30*F30*G30 -> 1600
B31: washrooms | C31: P. CFT | D31: 2 | E31: 4 | F31: 4 | G31: 2.5 | H31: =D31*E31*F31*G31 -> 80
B32: Total Soil Filling | H32: =SUM(H30:H31) -> 1680 | I32: 5 | J32: 20 | K32: =H32*J32 -> 33600
A33: 7 | B33: Foundation & Super structure pacca brick work other than building including striking of joints upto 20 feet height in:(e) Cement sand mortar.1:6.
A34: 1 | B34: Rooms Short Walls | C34: P CFT | D34: 2 | E34: 43.5 | F34: 1.125 | G34: 2.5 | H34: =D34*E34*F34*G34 -> 244.6875
A35: 2 | B35: Rooms Short Walls | D35: 3 | E35: 16 | F35: 1.125 | G35: 2.5 | H35: =D35*E35*F35*G35 -> 135
A36: 1 | B36: Toilet Short Walls | C36: P CFT | D36: 4 | E36: 4 | F36: 0.75 | G36: 2.5 | H36: =D36*E36*F36*G36 -> 30
A37: 2 | B37: Toilet Short Walls | D37: 4 | E37: 4 | F37: 0.75 | G37: 2.5 | H37: =D37*E37*F37*G37 -> 30
A38: 1 | B38: Ramp | C38: P CFT | D38: 2 | E38: 4 | F38: 0.5 | G38: 3.5 | H38: =D38*E38*F38*G38 -> 14
B39: Total Brick Work | H39: =SUM(H34:H38) -> 453.6875 | J39: 250 | K39: =H39*J39 -> 113421.88
A40: 1
B41: SUPER STRUCTURE UP TO DPCSuper structure concrete block work other than building including striking of joints upto 20 feet height in:(e) Cement sand mortar.1:6.
...

Sheet Material  
B3: CAPITAL COST OF SCHEME
A6: MATERIAL STATEMENT
A7: S.No | B7: Name of Item | C7: Qty: | E7: Cement P-Bags | F7: H-Sand 100 Cft | G7: Stone 100 Cft | H7: Bajri 100 Cft | I7: Bricks %0 Nos | J7: Steel KG | K7: Soil | L7: Roof Tile | M7: Gridar | N7: TIRON
A8: 1 | B8: Excavation in foundation of building bridges and other structure i/c dag belling dressing refilling around structure with excavated earth watering and ramming earth lead upto one chain and lift upto five feet | C8: ='Details WORK SHEET '!H11 -> 459.5 | D8: %CFT
A9: 2 | B9: Cement concrete brick or stone ballast 1 1/2" to 2" gauge. (c) Ratio 1 : 5 : 10 | C9: ='Details WORK SHEET '!H19 -> 204.75 | D9: %CFT | E9: =C9/100*6 -> 12.285 | F9: =C9*49/100 -> 100.3275 | G9: =C9*98/100 -> 200.655
A10: 3 | B10: Pacca brick work in groundfloor in CS mortar 1:4 | C10: ='Details WORK SHEET '!H53 -> 786.75 | D10: %CFT | E10: =C10/100*3 -> 23.6025 | F10: =C10*25.67/100 -> 201.95873 | G10: =C10/100 -> 7.8675 | I10: =C10*13.5 -> 10621.125
A11: 4 | B11: Rcc work in all labour and material except the cost of steel r/f and its labour for Bending and binding wire which will be paid separatey.This rate also i/c all kinds of forms moulds lifting shutterinhg curring rendering and finishing the exposed surface(a) R C Work In roof slab beams coloumns rafts lintels and other structure etc complete ratio 1:2:4 (S.I.NO.6-A P- 16 ) | C11: ='Details WORK SHEET '!H24 -> 120.875 | D11: %CFT | E11: =C11/100*17 -> 20.54875 | F11: =C11/100*44 -> 53.185 | H11: =C11/100*88 -> 106.37
A12: 5 | B12: Fabrication of mild steel r/f for c.,c i/c cutting bending dbinding laying in Position i/c removal of rust from bars (S.I.NO.8-E P-16) | C12: ='Details WORK SHEET '!H28 -> 301.59931 | D12: P KG | J12: =C12 -> 301.59931
A13: 6 | B13: Soiling Filling and whatering leveing | C13: ='Details WORK SHEET '!H32 -> 1680 | D13: %CFT | K13: =C13 -> 1680
A14: 7 | B14: pacca brick work other than building including striking of joints upto 20 feet height in:(e) Cement sand mortar.1:6(S.I.No.07, P.No.22). | C14: 0 | D14: %CFT | E14: =C14*2.4/100 -> 0 | F14: =C14*25.67/100 -> 0 | I14: =C14*13.5 -> 0
A15: 8 | B15: P/L G.I Frame/Chokate Size 7”x2” Or 4 ½ x3” for Door using 20” Gauge including welded hinges i/c cost of cement sand slurry of 1:6 cost of tolls and plants used in making and fixing (S.I.No.29 / P-92) | C15: ='Details WORK SHEET '!H71 -> 10
A16: 9 | B16: First class deodar wood wrought joinery for doors and windows Fixed in position i/c chowkats holds fasts hings iron tower volts chocks cleats Handles etc complete( Only shutters) (S.I.No.7, b / P-57)
B17: ='Details WORK SHEET '!B54 -> First class tile roofing consisting of 4" earth and 1" mud plaster with gobri leeping over 1/2" thick CS plaster 1:6 with 34 lbs of hot bitumen coating , sand blinded provided over 2 layers of tiles 12" x 6" x 1 1/4" laid in 1:6 CS with 1/2" thick sandwiched layer of 1:6 cement pointing underside of tiles complete including curing etc (S.Item No:2 P-32) | C17: ='Details WORK SHEET '!H57 -> 793.25 | D17: SFT | L17: =C17*2 -> 1586.5
B18: ='Details WORK SHEET '!B59 -> Guarder 4''x8'' per foot 2.5 KG | C18: ='Details WORK SHEET '!H61 -> 105 | D18: RFT | M18: =C18 -> 105
B19: ='Details WORK SHEET '!B62 -> 2" x 2" T Iron @ 1' c /c in shorter direction | C19: ='Details WORK SHEET '!H65 -> 692.5 | D19: RFT | N19: =C19 -> 692.5
A20: 10 | B20: Cement plaster 1:4 about 20' hight ( 1/2" thick) | C20: ='Details WORK SHEET '!H81 -> 1731 | E20: =C20/100*1.5 -> 25.965 | F20: =C20/100*4 -> 69.24
A21: 11 | B21: Cement pointing struck joints on walls ( 1:2) | E21: =C21/100*2 -> 0 | F21: =C21/100*4 -> 0
A22: 12 | B22: Providing and laying 1" thick topping cement concrete ( 1:2:4) I/c surface finishing and dividing into panels ( 2" th.) | C22: ='Details WORK SHEET '!H85 -> 544 | F22: =C22/100*22 -> 119.68 | H22: =C22/100*44 -> 239.36
A23: 13 | B23: Primary coat of Chalk under distembering (S.I.No.23/ P-53) | C23: ='Details WORK SHEET '!H88 -> 0
A24: 14 | B24: Distembering 3 coats (S.I.No.24/ P-53) | C24: =C23 -> 0
A25: 15 | B25: Preparing sufance as painting Doors and Windows etc (S.I.NO. 4c (ii) P- 67) | C25: ='Details WORK SHEET '!H98 -> Total
A26: 16 | B26: PLUMBING & PHE ITEMS
A27: 17
A28: Total | E28: =SUM(E8:E27) -> 82.40125 | F28: =SUM(F8:F27) -> 544.39123 | G28: =SUM(G8:G27) -> 208.5225 | H28: =SUM(H8:H27) -> 345.73 | I28: =SUM(I8:I27) -> 10621.125 | J28: =SUM(J8:J27) -> 301.59931 | K28: =SUM(K8:K27) -> 1680 | L28: =SUM(L8:L27) -> 1586.5 | ... N28: =SUM(N8:N27) -> 692.5
