Workbook

Sheet Summary Materal & labour all  
A3: CAPITAL COST OF SCHEME (SCHOOL)
A5: PURPOSED ESTIMATION OF 2 class rooms size 20x16 2 Toilet size 5x5 with SEPTICK TANK DETAILS
A6: New Construction
A8: S>Nos | B8: DESCRIPTION | C8: QTY | D8: UNIT | E8: RATE | F8: AMOUNT
A9: A | B9: MATERIAL
A10: 1 | B10: CEMENT for all requied work palster, flooring brick massonary,block massonary ,rcc shades ,plinth beam ,RCC lintels ,roof grouting etc according to the engineer incharge | C10: 160 | D10: BAGS
A11: 2 | B11: SAND for all requied work palster, flooring brick massonary,block massonary ,rcc shades ,plinth beam ,RCC lintels , etc according to the engineer incharge | C11: 800 | D11: CFT
A12: 3 | B12: BRICKS bricks for all requied work such as , brick massonary for foundation ,ramps , etc according to the engineer incharge | C12: 8758.233 | D12: NO
A13: 5 | B13: brick masonary for super structure | C13: 18000 | D13: nos
A14: 4 | B14: CRUSH | C14: 350 | D14: CFT
A15: 5 | B15: Stone 2'' | C15: 208.52 | D15: CFT
A16: 6 | B16: Clay(soil) | C16: 1750 | D16: CFT
A17: 7 | B17: Steel Bar 4/8 no: bars for plinth beam and 3/8 no: for lintels and sheds | C17: 517 | D17: KG
A18: 8 | B18: steel Door 3.5*7 with steel frame 18 gauge and locks hinges handles complete in all respects according to the engineeer incharge | C18: 2 | D18: nos
A19: 9 | B19: steel Doors 3.5*with steel frame 18 gauge and locks handles and hinges complete in all respects according to the engineer incharge | C19: 2 | D19: nos
A20: 10 | B20: steel windows with steel frame and 3.5*4 with hinges and locks complete in all respects according to engineer incharge | C20: 6 | D20: nos
A21: 11 | B21: Roof tile 12''x6'' | C21: ='Material '!L28 -> 1586.5 | D21: No
A22: 12 | B22: Guarder 4''x8'' per foot 3 KG total 8 guaders | C22: 132 | D22: RFT
A23: 13 | B23: T Iron @ 2" x 2"1' c /c 900 gram | C23: ='Material '!N28 -> 692.5 | D23: RFT
A24: 14 | B24: TOILETS item WC Medium | C24: 1 | D24: Each
A25: 16 | B25: TOILETS item comode | C25: 1 | D25: Each
A26: 15 | B26: Wash station with complete in all respect | C26: 2 | D26: Each
A27: 16 | B27: provsion of water in washrooms and wash stations i-e installation of motor pump or hand pump where suitable including boring | C27: 1 | D27: Each
A28: 17 | B28: PPR Pipe | C28: 15 | D28: RFT
A29: 18 | B29: PVC U pipe 4'' | C29: 9 | D29: RFT
A30: 19 | B30: Water tank 400 GL | C30: 1 | D30: Each
A31: 20 | B31: Bib Cock | C31: 2 | D31: Each
A32: 21 | B32: Ramp hand rails steel | C32: 2 | D32: Each
A33: 22 | B33: providing distembering, wheather sheet oil paint | C33: LUMSUM
A34: 23 | B34: fixing of sign board on wall 12''*12'' with complete in all respect | C34: LUMSUM
A35: 24 | B35: Installation of 2 solar pannel and with 04 ceilling fans i-e fan with complete fittings | C35: LUMSUM
A36: 26 | B36: TRANPORTATION | C36: LUMSUM
A40: B | B40: SUB-TOTAL | F40: =SUM(F10:F37) -> 0
B41: LABOUR WORK ITEMS
A42: 1 | B42: Excavation in foundation | F42: =C42*E42 -> 0
A43: 2 | B43: Cement concrete brick or stone ballast | F43: =C43*E43 -> 0
A44: 3 | B44: Rcc work in all labour | F44: =C44*E44 -> 0
A45: 4 | B45: Brick work Masonary | F45: =C45*E45 -> 0
A46: 5 | B46: First class tile roofing i/c Tiron Fixing Compelet labour work. | F46: =C46*E46 -> 0
A47: 6 | B47: Cement plaster 1:4 about | F47: =C47*E47 -> 0
...

Sheet Details WORK SHEET   
A1: LCS school work details
A2: S # | B2: Description | C2: Unit | D2: No. | E2: L | F2: B | G2: H | H2: Qty | I2: Rate/unit(Rs) 2020 | J2: RATE | K2: Amount
A4: 1 | B4: Excavation in foundation of building bridges and other structure i/c dag belling dressing refilling around structure with excavated earth watering and ramming earth lead upto one chain and lift upto five feet (S.I.No – 18-b / P-4)
B5: Long Walls | C5: CFT | D5: 2 | E5: 43.5 | F5: 2 | G5: 1.5 | H5: =D5*E5*F5*G5 -> 261
B6: Short Walls | D6: 3 | E6: 16 | F6: 2 | G6: 1.5 | H6: =D6*E6*F6*G6 -> 144
B7: Toilet Long Walls | C7: CFT | D7: 4 | E7: 5 | F7: 1 | G7: 1 | H7: =D7*E7*F7*G7 -> 20
B8: Short Walls | D8: 3 | E8: 5 | F8: 1 | G8: 1 | H8: =D8*E8*F8*G8 -> 15
B9: Stair | D9: 1 | E9: 7 | F9: 3 | G9: 0.5 | H9: =D9*E9*F9*G9 -> 10.5
B10: Ramp | C10: CFT | D10: 2 | E10: 5 | F10: 4 | G10: 1 | H10: =D10*E10*F10*G10 -> 40
B11: Total | H11: =SUM(H5:H10) -> 490.5 | I11: 6 | J11: 12 | K11: =H11*J11 -> 5886
A12: 3 | B12: Cement concrete brick or stone ballast 1 1/2" to 2" gauge. (c) Ratio 1 : 5 : 10 (S.I.No –4 / P-05)
B13: Long Walls | C13: CFT | D13: 2 | E13: 40.5 | F13: 2 | G13: 0.25 | H13: =D13*E13*F13*G13 -> 40.5
B14: Short Walls | D14: 3 | E14: 16 | F14: 2 | G14: 0.25 | H14: =D14*E14*F14*G14 -> 24
B15: Toilet Long Walls | C15: CFT | D15: 4 | E15: 4 | F15: 1 | G15: 0.25 | H15: =D15*E15*F15*G15 -> 4
B16: Short Walls | D16: 3 | E16: 4 | F16: 1 | G16: 0.25 | H16: =D16*E16*F16*G16 -> 3
B17: Class room Floor | D17: 2 | E17: 20 | F17: 16 | G17: 0.25 | H17: =D17*E17*F17*G17 -> 160
B18: Stair | D18: 1 | E18: 7 | F18: 3 | G18: 0.25 | H18: =D18*E18*F18*G18 -> 5.25
B19: Total | H19: =SUM(H12:H18) -> 236.75 | I19: 130 | J19: 85 | K19: =H19*J19 -> 20123.75
A20: 4 | B20: Rcc work in all labour and material except the cost of steel r/f and its labour for Bending and binding wire which will be paid separatey.This rate also i/c all kinds of forms moulds lifting shutterinhg curring rendering and finishing the exposed surface(a) R C Work In roof slab beams coloumns rafts lintels and other structure etc complete ratio 1:2:4 (S.I.NO.6-A P- 16 )
B21: Plinth DPC Building | C21: CFT | D21: 1 | E21: =43+43+16+16+16 -> 134 | F21: 1.083 | G21: 0.75 | H21: =G21*F21*E21*D21 -> 108.8415 | J21: 400 | K21: =H21*J21 -> 43536.6
B22: plinth beam building fior washroom | C22: CFT | D22: 1 | E22: =6.5+6.5+4.4+4.4 -> 21.8 | F22: 0.5 | G22: 0.5 | H22: =E22*F22*G22 -> 5.45
B23: Lintle 1:2:4 Cs Building | C23: CFT | D23: 1 | E23: =E21 -> 134 | F23: 0.75 | G23: 0.75 | H23: =G23*F23*E23*D23 -> 75.375 | J23: 400 | K23: =H23*J23 -> 30150
B24: RCC 1:2:4 Cs Shades for doors and windows | C24: CFT | D24: 8 | E24: 4 | F24: 2 | G24: 0.25 | H24: =G24*F24*E24*D24 -> 16 | J24: 400 | K24: =H24*J24 -> 6400
B25: slab of spectic tank | C25: cft | D25: 1 | E25: 5 | F25: 4 | G25: 0.333 | H25: =G25*F25*E25 -> 6.66
B26: Total Amount | H26: =H23+H24+H21+H25 -> 206.8765 | I26: 337 | K26: =K24+K23+K21 -> 80086.6
A27: 5 | B27: Fabrication of mild steel r/f for c.,c i/c cutting bending dbinding laying in Position i/c removal of rust from bars (S.I.NO.8-E P-16)
B28: CWT Steel | C28: CWT | H28: =H26*5.5/112 -> 10.159114
B29: Total KG Steel Used in building | C29: P.KG | H29: =H28*50.81 -> 516.18457
B31: Total Steel KG | H31: =H29:I29 -> 516.18457 | I31: 140 | J31: 290 | K31: =J31*H31 -> 149693.53
A32: 6 | B32: Soiling Filling and whatering leveing
B33: Rooms | C33: P. CFT | D33: 2 | E33: 20 | F33: 16 | G33: 2.5 | H33: =D33*E33*F33*G33 -> 1600
B34: washrooms | C34: P. CFT | D34: 2 | E34: 4 | F34: 4 | G34: 2.5 | H34: =D34*E34*F34*G34 -> 80
B35: Total Soil Filling | H35: =SUM(H33:H34) -> 1680 | I35: 5 | J35: 20 | K35: =H35*J35 -> 33600
A36: 7 | B36: Foundation & Super structure pacca brick work other than building including striking of joints upto 20 feet height in:(e) Cement sand mortar.1:6.
A37: 1 | B37: Rooms long Walls | C37: P CFT | D37: 2 | E37: 43.5 | F37: 1.083 | G37: 3.5 | H37: =D37*E37*F37*G37 -> 329.7735
A38: 2 | B38: Rooms Short Walls | D38: 3 | E38: 16 | F38: 1.083 | G38: 3.5 | H38: =D38*E38*F38*G38 -> 181.944
A39: 1 | B39: Toilet long Walls | C39: P CFT | D39: 4 | E39: 5 | F39: 0.75 | G39: 3.5 | H39: =D39*E39*F39*G39 -> 52.5
A40: 2 | B40: Toilet Short Walls | D40: 4 | E40: 5 | F40: 0.75 | G40: 3.5 | H40: =D40*E40*F40*G40 -> 52.5
A41: 1 | B41: Ramp | C41: P CFT | D41: 2 | E41: 4 | F41: 0.5 | G41: 3.5 | H41: =D41*E41*F41*G41 -> 14
A42: 1 | B42: stairs | C42: pcft | D42: 3 | F42: 3.5 | G42: 0.5 | H42: 10
...

Sheet Material  
B3: CAPITAL COST OF SCHEME
A6: MATERIAL STATEMENT
A7: S.No | B7: Name of Item | C7: Qty: | E7: Cement P-Bags | F7: H-Sand 100 Cft | G7: Stone 100 Cft | H7: Bajri 100 Cft | I7: Bricks %0 Nos | J7: Steel KG | K7: Soil | L7: Roof Tile | M7: Gridar | N7: TIRON
A8: 1 | B8: Excavation in foundation of building bridges and other structure i/c dag belling dressing refilling around structure with excavated earth watering and ramming earth lead upto one chain and lift upto five feet | C8: ='Details WORK SHEET '!H11 -> 490.5 | D8: %CFT
A9: 2 | B9: Cement concrete brick or stone ballast 1 1/2" to 2" gauge. (c) Ratio 1 : 5 : 10 | C9: ='Details WORK SHEET '!H19 -> 236.75 | D9: %CFT | E9: =C9/100*6 -> 14.205 | F9: =C9*49/100 -> 116.0075 | G9: =C9*98/100 -> 232.015
A10: 3 | B10: Pacca brick work in groundfloor in CS mortar 1:4 | C10: ='Details WORK SHEET '!H59 -> 1116.75 | D10: %CFT | E10: =C10/100*3 -> 33.5025 | F10: =C10*25.67/100 -> 286.66973 | G10: =C10/100 -> 11.1675 | I10: =C10*13.5 -> 15076.125
A11: 4 | B11: Rcc work in all labour and material except the cost of steel r/f and its labour for Bending and binding wire which will be paid separatey.This rate also i/c all kinds of forms moulds lifting shutterinhg curring rendering and finishing the exposed surface(a) R C Work In roof slab beams coloumns rafts lintels and other structure etc complete ratio 1:2:4 (S.I.NO.6-A P- 16 ) | C11: ='Details WORK SHEET '!H26 -> 206.8765 | D11: %CFT | E11: =C11/100*17 -> 35.169005 | F11: =C11/100*44 -> 91.02566 | H11: =C11/100*88 -> 182.05132
A12: 5 | B12: Fabrication of mild steel r/f for c.,c i/c cutting bending dbinding laying in Position i/c removal of rust from bars (S.I.NO.8-E P-16) | C12: ='Details WORK SHEET '!H31 -> 516.18457 | D12: P KG | J12: =C12 -> 516.18457
A13: 6 | B13: Soiling Filling and whatering leveing | C13: ='Details WORK SHEET '!H35 -> 1680 | D13: %CFT | K13: =C13 -> 1680
A14: 7 | B14: pacca brick work other than building including striking of joints upto 20 feet height in:(e) Cement sand mortar.1:6(S.I.No.07, P.No.22). | C14: 0 | D14: %CFT | E14: =C14*2.4/100 -> 0 | F14: =C14*25.67/100 -> 0 | I14: =C14*13.5 -> 0
A15: 8 | B15: P/L G.I Frame/Chokate Size 7”x2” Or 4 ½ x3” for Door using 20” Gauge including welded hinges i/c cost of cement sand slurry of 1:6 cost of tolls and plants used in making and fixing (S.I.No.29 / P-92) | C15: ='Details WORK SHEET '!H77 -> 10
A16: 9 | B16: First class deodar wood wrought joinery for doors and windows Fixed in position i/c chowkats holds fasts hings iron tower volts chocks cleats Handles etc complete( Only shutters) (S.I.No.7, b / P-57)
B17: ='Details WORK SHEET '!B60 -> First class tile roofing consisting of 4" earth and 1" mud plaster with gobri leeping over 1/2" thick CS plaster 1:6 with 34 lbs of hot bitumen coating , sand blinded provided over 2 layers of tiles 12" x 6" x 1 1/4" laid in 1:6 CS with 1/2" thick sandwiched layer of 1:6 cement pointing underside of tiles complete including curing etc (S.Item No:2 P-32) | C17: ='Details WORK SHEET '!H63 -> 793.25 | D17: SFT | L17: =C17*2 -> 1586.5
B18: ='Details WORK SHEET '!B65 -> Guarder 4''x8'' per foot 2.5 KG | C18: ='Details WORK SHEET '!H67 -> 132 | D18: RFT | M18: =C18 -> 132
B19: ='Details WORK SHEET '!B68 -> 2" x 2" T Iron @ 1' c /c in shorter direction | C19: ='Details WORK SHEET '!H71 -> 692.5 | D19: RFT | N19: =C19 -> 692.5
A20: 10 | B20: Cement plaster 1:4 about 20' hight ( 1/2" thick) | C20: ='Details WORK SHEET '!H88 -> 1779 | E20: =C20/100*1.5 -> 26.685 | F20: =C20/100*4 -> 71.16
A21: 11 | B21: Cement pointing struck joints on walls ( 1:2) | E21: =C21/100*2 -> 0 | F21: =C21/100*4 -> 0
A22: 12 | B22: Providing and laying 1" thick topping cement concrete ( 1:2:4) I/c surface finishing and dividing into panels ( 2" th.) | C22: ='Details WORK SHEET '!H92 -> 672 | F22: =C22/100*22 -> 147.84 | H22: =C22/100*44 -> 295.68
A23: 13 | B23: Primary coat of Chalk under distembering (S.I.No.23/ P-53) | C23: ='Details WORK SHEET '!H95 -> 0
A24: 14 | B24: Distembering 3 coats (S.I.No.24/ P-53) | C24: =C23 -> 0
A25: 15 | B25: Preparing sufance as painting Doors and Windows etc (S.I.NO. 4c (ii) P- 67) | C25: ='Details WORK SHEET '!H104 -> Total
A26: 16 | B26: PLUMBING & PHE ITEMS
A27: 17
A28: Total | E28: =SUM(E8:E27) -> 109.5615 | F28: =SUM(F8:F27) -> 712.70289 | G28: =SUM(G8:G27) -> 243.1825 | H28: =SUM(H8:H27) -> 477.73132 | I28: =SUM(I8:I27) -> 15076.125 | J28: =SUM(J8:J27) -> 516.18457 | K28: =SUM(K8:K27) -> 1680 | L28: =SUM(L8:L27) -> 1586.5 | ... N28: =SUM(N8:N27) -> 692.5
